Workbook

Sheet Nominee Info
C1: Order of the Arrow, Tukarica Lodge 266, Mountain West Council, Scouting America
C2: 2026 OA Nominees for Election Form
C3: * * * PLEASE READ THIS BEFORE YOU START * * * All information must be typed in order to be uploaded into the Lodgemaster system. Handwritten information cannot be uploaded. Name information, BSA ID#, and date or birth must be an exact match to the data on your unit charter report submitted to the Mountain West Council. All items with * are required. Important: The information for each elected youth becomes an official record in the OA database. Years from now, when your scout is an adult, they may need to refer to their youth OA record to verify their OA history. Accurate information entered will ease retrieving the youth’s information in the future. Camping nights must be from the two years preceding the election date. | J3: Please Note! This completed form must be emailed in Excel format to the OA election adviser (OA-Tukarica@chimeraco.net) in order to schedule an election. PDF FILES WILL NOT BE ACCEPTED. Please double check your work for typing errors. Your election ballot is in the red tab labeled BALLOT. Please print enough ballots for two elections incase no one is elected in the first election. All elections must be completed by 3/31/2026 to avoid delays in compiling data for Callouts at Camporees and Spring and Fall Inductions. | R3: LODGE COMMUNICATIONS The Lodge relies heavily on emails to communicate with OA candidates and Lodge members. Induction information and the online registration links for induction weekends and all program activities, service opportunities and trainings opportunities are sent out via email. PLEASE PROVIDE BOTH EMAIL ADDRESSES.
A5: This Section to be Completed by Unit Leader or Designee | T5: OA Use ONLY Election Team will Complete
C6: Number of Registered Active Youth Note: At least half of the registered active unit members must be present to hold an election. | J6: Unit Leader Name, Email, and Phone #
A7: * First Name (as it appears on unit recharter) | B7: * Last Name (as it appears on unit recharter) | C7: * Middle Name or M.I. (as it appears on unit recharter) | D7: * Scouting ID # (see unit recharter list) | E7: * Date of Birth XX/XX/XXXX | F7: * Rank/Award (Select from Dropdown) | G7: * Unit Type (Troop, Crew or Ship) | H7: * Unit Number XXXX | I7: * Gender | J7: * Long term camping nights (max. 5) | K7: * Short term camping nights (min. 10) | L7: * Address Line 1 | M7: * City | N7: * State | O7: * Zip Code | P7: * Primary Phone XXXXXXXXXX 10 digits (no dashes or spaces) | Q7: * Parent Emergency Mobile Phone 10 digits (no dashes or spaces) | R7: Scout Email Address | S7: Parent Email Address | T7: Chapter | U7: Election Date xx/xx/xxxx | V7: Mark Box w/X if Elected | W7: Call Out Date xx/xx/xxxx | X7: Induction Date (Saturday)

Sheet BALLOT
B1: ='Nominee Info'!G8 -> 0 | C1: ='Nominee Info'!H8 -> 0 | F1: ='Nominee Info'!G8 -> 0 | G1: ='Nominee Info'!H8 -> 0
A2: 2026 ORDER OF THE ARROW ELECTION | E2: 2026 ORDER OF THE ARROW ELECTION
A3: Nominees DO NOT have to be present to be elected. | E3: Nominees DO NOT have to be present to be elected.
A4: Vote for all that you feel are deserving. | E4: Vote for all that you feel are deserving.
A5: Turn in a blank ballot if none are deserving. | E5: Turn in a blank ballot if none are deserving.
A6: Do not turn in a ballot if you do not wish to vote. | E6: Do not turn in a ballot if you do not wish to vote.
A7: If you do not know the candidates well enough to vote wisely, do not turn in a ballot. | E7: If you do not know the candidates well enough to vote wisely, do not turn in a ballot.
B9: Vote for All Candidates | F9: Vote for All Candidates
B10: ='Nominee Info'!A8&" "&'Nominee Info'!B8 | F10: ='Nominee Info'!A8&" "&'Nominee Info'!B8
B11: ='Nominee Info'!A9&" "&'Nominee Info'!B9 | F11: ='Nominee Info'!A9&" "&'Nominee Info'!B9
B12: ='Nominee Info'!A10&" "&'Nominee Info'!B10 | F12: ='Nominee Info'!A10&" "&'Nominee Info'!B10
B13: ='Nominee Info'!A11&" "&'Nominee Info'!B11 | F13: ='Nominee Info'!A11&" "&'Nominee Info'!B11
B14: ='Nominee Info'!A12&" "&'Nominee Info'!B12 | F14: ='Nominee Info'!A12&" "&'Nominee Info'!B12
B15: ='Nominee Info'!A13&" "&'Nominee Info'!B13 | F15: ='Nominee Info'!A13&" "&'Nominee Info'!B13
B16: ='Nominee Info'!A14&" "&'Nominee Info'!B14 | F16: ='Nominee Info'!A14&" "&'Nominee Info'!B14
B17: ='Nominee Info'!A15&" "&'Nominee Info'!B15 | F17: ='Nominee Info'!A15&" "&'Nominee Info'!B15
B18: ='Nominee Info'!A16&" "&'Nominee Info'!B16 | F18: ='Nominee Info'!A16&" "&'Nominee Info'!B16
B19: ='Nominee Info'!A17&" "&'Nominee Info'!B17 | F19: ='Nominee Info'!A17&" "&'Nominee Info'!B17
B20: ='Nominee Info'!A18&" "&'Nominee Info'!B18 | F20: ='Nominee Info'!A18&" "&'Nominee Info'!B18
B21: ='Nominee Info'!A19&" "&'Nominee Info'!B19 | F21: ='Nominee Info'!A19&" "&'Nominee Info'!B19
... B23: ='Nominee Info'!A21&" "&'Nominee Info'!B21 | F23: ='Nominee Info'!A21&" "&'Nominee Info'!B21
B25: ='Nominee Info'!G8 -> 0 | C25: ='Nominee Info'!H8 -> 0 | F25: ='Nominee Info'!G8 -> 0 | G25: ='Nominee Info'!H8 -> 0
A26: 2026 ORDER OF THE ARROW ELECTION | E26: 2026 ORDER OF THE ARROW ELECTION
A27: Nominees DO NOT have to be present to be elected. | E27: Nominees DO NOT have to be present to be elected.
A28: Vote for all that you feel are deserving. | E28: Vote for all that you feel are deserving.
A29: Turn in a blank ballot if none are deserving. | E29: Turn in a blank ballot if none are deserving.
A30: Do not turn in a ballot if you do not wish to vote. | E30: Do not turn in a ballot if you do not wish to vote.
A31: If you do not know the candidates well enough to vote wisely, do not turn in a ballot. | E31: If you do not know the candidates well enough to vote wisely, do not turn in a ballot.
B33: Vote for All Candidates | F33: Vote for All Candidates
B34: ='Nominee Info'!A8&" "&'Nominee Info'!B8 | F34: ='Nominee Info'!A8&" "&'Nominee Info'!B8
B35: ='Nominee Info'!A9&" "&'Nominee Info'!B9 | F35: ='Nominee Info'!A9&" "&'Nominee Info'!B9
B36: ='Nominee Info'!A10&" "&'Nominee Info'!B10 | F36: ='Nominee Info'!A10&" "&'Nominee Info'!B10
B37: ='Nominee Info'!A11&" "&'Nominee Info'!B11 | F37: ='Nominee Info'!A11&" "&'Nominee Info'!B11
B38: ='Nominee Info'!A12&" "&'Nominee Info'!B12 | F38: ='Nominee Info'!A12&" "&'Nominee Info'!B12
B39: ='Nominee Info'!A13&" "&'Nominee Info'!B13 | F39: ='Nominee Info'!A13&" "&'Nominee Info'!B13
B40: ='Nominee Info'!A14&" "&'Nominee Info'!B14 | F40: ='Nominee Info'!A14&" "&'Nominee Info'!B14
B41: ='Nominee Info'!A15&" "&'Nominee Info'!B15 | F41: ='Nominee Info'!A15&" "&'Nominee Info'!B15
B42: ='Nominee Info'!A16&" "&'Nominee Info'!B16 | F42: ='Nominee Info'!A16&" "&'Nominee Info'!B16
B43: ='Nominee Info'!A17&" "&'Nominee Info'!B17 | F43: ='Nominee Info'!A17&" "&'Nominee Info'!B17
B44: ='Nominee Info'!A18&" "&'Nominee Info'!B18 | F44: ='Nominee Info'!A18&" "&'Nominee Info'!B18
...

Sheet Unit Election Report
A2: Unit Election Report
A3: Order of the Arrow, Tukarica Lodge #266, Mountain West Council
A4: 2026 Unit Election Report
A6: Unit Type | B6: ='Nominee Info'!G8 -> 0 | D6: Unit # | E6: ='Nominee Info'!H8 -> 0 | H6: Date of Election | I6: ='Nominee Info'!U8 -> 0
A8: Registered Active Youth | C8: ='Nominee Info'!B6 -> 0 | E8: Youth Present | H8: (at least 50% of Registered Active)
A10: Name | D10: Rank or Award | E10: Check if Elected | G10: Name | J10: Rank or Award | K10: Check if Elected
A11: ='Nominee Info'!A8&" "&'Nominee Info'!B8 | D11: ='Nominee Info'!F8 -> 0 | G11: ='Nominee Info'!A15&" "&'Nominee Info'!B15 | J11: ='Nominee Info'!F15 -> 0
A12: ='Nominee Info'!A9&" "&'Nominee Info'!B9 | D12: ='Nominee Info'!F9 -> 0 | G12: ='Nominee Info'!A16&" "&'Nominee Info'!B16 | J12: ='Nominee Info'!F16 -> 0
A13: ='Nominee Info'!A10&" "&'Nominee Info'!B10 | D13: ='Nominee Info'!F10 -> 0 | G13: ='Nominee Info'!A17&" "&'Nominee Info'!B17 | J13: ='Nominee Info'!F17 -> 0
A14: ='Nominee Info'!A11&" "&'Nominee Info'!B11 | D14: ='Nominee Info'!F11 -> 0 | G14: ='Nominee Info'!A18&" "&'Nominee Info'!B18 | J14: ='Nominee Info'!F18 -> 0
A15: ='Nominee Info'!A12&" "&'Nominee Info'!B12 | D15: ='Nominee Info'!F12 -> 0 | G15: ='Nominee Info'!A19&" "&'Nominee Info'!B19 | J15: ='Nominee Info'!F19 -> 0
A16: ='Nominee Info'!A13&" "&'Nominee Info'!B13 | D16: ='Nominee Info'!F13 -> 0 | G16: ='Nominee Info'!A20&" "&'Nominee Info'!B20 | J16: ='Nominee Info'!F20 -> 0
A17: ='Nominee Info'!A14&" "&'Nominee Info'!B14 | D17: ='Nominee Info'!F14 -> 0 | G17: ='Nominee Info'!A21&" "&'Nominee Info'!B21 | J17: ='Nominee Info'!F21 -> 0
A19: I certify that the above youth members are eligible and approve them as nominees for election. I also understand that the election results will be final for the year.
G22: Unit Leader
C24: Number of members eligible | I24: Number of ballots turned in
D26: Number of votes required to be elected (50%) | H26: Number elected
A28: Election Team Members
A33: Number of Youth Elected | D33: Maximum Number of Adult Nominations | J33: Number of Adult Leaders Unit Can Nominate
A34: 1 | D34: 1 + unit leader
A35: 2 | D35: 2 + unit leader
A36: 3 | D36: 2 + unit leader
A37: 4 | D37: 3 + unit leader
A38: 5 | D38: 4 + unit leader
A39: 6 | D39: 4 + unit leader
A40: 7 | D40: 5 + unit leader
A41: 8 | D41: 6 + unit leader
A42: 9 | D42: 6 + unit leader
A43: 10 | D43: 7 + unit leader
A44: 11 | D44: 8 + unit leader
A45: 12 | D45: 8 + unit leader
... A47: 14 | D47: 10 + unit leader

Sheet Data
B3: Rank or Award | D3: Unit Type
B4: First Class | D4: Troop
B5: Star | D5: Crew
B6: Life | D6: Ship
B7: Eagle
B8: Discovery
B9: Pathfinder
B10: Summit
B11: Ordinary
B12: Able
B13: Quartermaster
